BEGIN:VCALENDAR
VERSION:2.0
PRODID:-//EAS Experimental Aviation of Switzerland - ECPv6.15.20//NONSGML v1.0//EN
CALSCALE:GREGORIAN
METHOD:PUBLISH
X-ORIGINAL-URL:https://experimental.ch
X-WR-CALDESC:Events for EAS Experimental Aviation of Switzerland
REFRESH-INTERVAL;VALUE=DURATION:PT1H
X-Robots-Tag:noindex
X-PUBLISHED-TTL:PT1H
BEGIN:VTIMEZONE
TZID:Europe/Berlin
BEGIN:DAYLIGHT
TZOFFSETFROM:+0100
TZOFFSETTO:+0200
TZNAME:CEST
DTSTART:20240331T010000
END:DAYLIGHT
BEGIN:STANDARD
TZOFFSETFROM:+0200
TZOFFSETTO:+0100
TZNAME:CET
DTSTART:20241027T010000
END:STANDARD
BEGIN:DAYLIGHT
TZOFFSETFROM:+0100
TZOFFSETTO:+0200
TZNAME:CEST
DTSTART:20250330T010000
END:DAYLIGHT
BEGIN:STANDARD
TZOFFSETFROM:+0200
TZOFFSETTO:+0100
TZNAME:CET
DTSTART:20251026T010000
END:STANDARD
BEGIN:DAYLIGHT
TZOFFSETFROM:+0100
TZOFFSETTO:+0200
TZNAME:CEST
DTSTART:20260329T010000
END:DAYLIGHT
BEGIN:STANDARD
TZOFFSETFROM:+0200
TZOFFSETTO:+0100
TZNAME:CET
DTSTART:20261025T010000
END:STANDARD
END:VTIMEZONE
BEGIN:VEVENT
DTSTART;TZID=Europe/Berlin:20250804T180000
DTEND;TZID=Europe/Berlin:20250804T220000
DTSTAMP:20260420T124924
CREATED:20250512T081642Z
LAST-MODIFIED:20250512T081642Z
UID:13623-1754330400-1754344800@experimental.ch
SUMMARY:EAS Höck Birrfeld 04.08.2025 Grill and Fly
DESCRIPTION:EAS Höck Birrfeld vom Mo 04.08. 2025 findet als Grill and Fly Event auf dem Flugplatz Birrfeld statt. \nGrill steht bereit ab 18h\nAnreise per Flugzeug oder Auto.\nLocation: vor dem Holzhangar der Segelfluggruppe\nGetränke vorhanden\, Grillgut mitbringen oder vor Ort organisieren\nDer Höck findet bei jedem Wetter statt (Aufenthaltsraum vorhanden)
URL:https://experimental.ch/event/eas-hock-birrfeld-03-06-2024-grill-and-fly-2-2-2/
CATEGORIES:EAS Höck
ATTACH;FMTTYPE=image/jpeg:https://experimental.ch/wp-content/uploads/2023/04/EAS-Birrfeld_01.jpg
END:VEVENT
END:VCALENDAR