BEGIN:VCALENDAR
VERSION:2.0
PRODID:-//EAS Experimental Aviation of Switzerland - ECPv6.15.20//NONSGML v1.0//EN
CALSCALE:GREGORIAN
METHOD:PUBLISH
X-ORIGINAL-URL:https://experimental.ch
X-WR-CALDESC:Events for EAS Experimental Aviation of Switzerland
REFRESH-INTERVAL;VALUE=DURATION:PT1H
X-Robots-Tag:noindex
X-PUBLISHED-TTL:PT1H
BEGIN:VTIMEZONE
TZID:Europe/Berlin
BEGIN:DAYLIGHT
TZOFFSETFROM:+0100
TZOFFSETTO:+0200
TZNAME:CEST
DTSTART:20240331T010000
END:DAYLIGHT
BEGIN:STANDARD
TZOFFSETFROM:+0200
TZOFFSETTO:+0100
TZNAME:CET
DTSTART:20241027T010000
END:STANDARD
BEGIN:DAYLIGHT
TZOFFSETFROM:+0100
TZOFFSETTO:+0200
TZNAME:CEST
DTSTART:20250330T010000
END:DAYLIGHT
BEGIN:STANDARD
TZOFFSETFROM:+0200
TZOFFSETTO:+0100
TZNAME:CET
DTSTART:20251026T010000
END:STANDARD
BEGIN:DAYLIGHT
TZOFFSETFROM:+0100
TZOFFSETTO:+0200
TZNAME:CEST
DTSTART:20260329T010000
END:DAYLIGHT
BEGIN:STANDARD
TZOFFSETFROM:+0200
TZOFFSETTO:+0100
TZNAME:CET
DTSTART:20261025T010000
END:STANDARD
END:VTIMEZONE
BEGIN:VEVENT
DTSTART;TZID=Europe/Berlin:20250823T090000
DTEND;TZID=Europe/Berlin:20250823T170000
DTSTAMP:20260420T074719
CREATED:20241211T134532Z
LAST-MODIFIED:20241211T134532Z
UID:13028-1755939600-1755968400@experimental.ch
SUMMARY:EAS Schallmessung 2025 Herbst
DESCRIPTION:Reservedatum 06.09.2025 \nInfos and registration form click on title\n	Notice: JavaScript is required for this content.
URL:https://experimental.ch/event/eas-schallmessung-2023-herbst-2/
LOCATION:EAS Schallmessung\, LSZP Biel Kappelen
CATEGORIES:Schallmessung
ATTACH;FMTTYPE=image/png:https://experimental.ch/wp-content/uploads/2022/12/Profil-Sound-Measurement-e1671895039671.png
END:VEVENT
END:VCALENDAR