BEGIN:VCALENDAR
VERSION:2.0
PRODID:-//EAS Experimental Aviation of Switzerland - ECPv6.15.20//NONSGML v1.0//EN
CALSCALE:GREGORIAN
METHOD:PUBLISH
X-WR-CALNAME:EAS Experimental Aviation of Switzerland
X-ORIGINAL-URL:https://experimental.ch
X-WR-CALDESC:Events for EAS Experimental Aviation of Switzerland
REFRESH-INTERVAL;VALUE=DURATION:PT1H
X-Robots-Tag:noindex
X-PUBLISHED-TTL:PT1H
BEGIN:VTIMEZONE
TZID:Europe/Berlin
BEGIN:DAYLIGHT
TZOFFSETFROM:+0100
TZOFFSETTO:+0200
TZNAME:CEST
DTSTART:20230326T010000
END:DAYLIGHT
BEGIN:STANDARD
TZOFFSETFROM:+0200
TZOFFSETTO:+0100
TZNAME:CET
DTSTART:20231029T010000
END:STANDARD
BEGIN:DAYLIGHT
TZOFFSETFROM:+0100
TZOFFSETTO:+0200
TZNAME:CEST
DTSTART:20240331T010000
END:DAYLIGHT
BEGIN:STANDARD
TZOFFSETFROM:+0200
TZOFFSETTO:+0100
TZNAME:CET
DTSTART:20241027T010000
END:STANDARD
BEGIN:DAYLIGHT
TZOFFSETFROM:+0100
TZOFFSETTO:+0200
TZNAME:CEST
DTSTART:20250330T010000
END:DAYLIGHT
BEGIN:STANDARD
TZOFFSETFROM:+0200
TZOFFSETTO:+0100
TZNAME:CET
DTSTART:20251026T010000
END:STANDARD
END:VTIMEZONE
BEGIN:VEVENT
DTSTART;TZID=Europe/Berlin:20241109T093000
DTEND;TZID=Europe/Berlin:20241109T163000
DTSTAMP:20260421T045004
CREATED:20240910T143812Z
LAST-MODIFIED:20240910T143842Z
UID:12888-1731144600-1731169800@experimental.ch
SUMMARY:Build-Advisor (Bauberater) Seminar 2024
DESCRIPTION:Flugplatz Grenchen (LSZG)\, Schulungsraum Oscar\, von 09:30 bis 16:30 Uhr. Individuelle Einladungen folgen.\nAérodrome de Grenchen (LSZG)\, salle de formation Oscar\, de 09:30 à 16:30h. Des invitations individuelles suivront.
URL:https://experimental.ch/event/build-advisor-bauberater-seminar-2024/
CATEGORIES:Seminare
ATTACH;FMTTYPE=image/jpeg:https://experimental.ch/wp-content/uploads/2024/09/IMG_2537.jpg
END:VEVENT
END:VCALENDAR