BEGIN:VCALENDAR
VERSION:2.0
PRODID:-//EAS Experimental Aviation of Switzerland - ECPv6.15.20//NONSGML v1.0//EN
CALSCALE:GREGORIAN
METHOD:PUBLISH
X-WR-CALNAME:EAS Experimental Aviation of Switzerland
X-ORIGINAL-URL:https://experimental.ch
X-WR-CALDESC:Events for EAS Experimental Aviation of Switzerland
REFRESH-INTERVAL;VALUE=DURATION:PT1H
X-Robots-Tag:noindex
X-PUBLISHED-TTL:PT1H
BEGIN:VTIMEZONE
TZID:Europe/Berlin
BEGIN:DAYLIGHT
TZOFFSETFROM:+0100
TZOFFSETTO:+0200
TZNAME:CEST
DTSTART:20240331T010000
END:DAYLIGHT
BEGIN:STANDARD
TZOFFSETFROM:+0200
TZOFFSETTO:+0100
TZNAME:CET
DTSTART:20241027T010000
END:STANDARD
BEGIN:DAYLIGHT
TZOFFSETFROM:+0100
TZOFFSETTO:+0200
TZNAME:CEST
DTSTART:20250330T010000
END:DAYLIGHT
BEGIN:STANDARD
TZOFFSETFROM:+0200
TZOFFSETTO:+0100
TZNAME:CET
DTSTART:20251026T010000
END:STANDARD
BEGIN:DAYLIGHT
TZOFFSETFROM:+0100
TZOFFSETTO:+0200
TZNAME:CEST
DTSTART:20260329T010000
END:DAYLIGHT
BEGIN:STANDARD
TZOFFSETFROM:+0200
TZOFFSETTO:+0100
TZNAME:CET
DTSTART:20261025T010000
END:STANDARD
END:VTIMEZONE
BEGIN:VEVENT
DTSTART;TZID=Europe/Berlin:20250301T100000
DTEND;TZID=Europe/Berlin:20250301T120000
DTSTAMP:20260420T222828
CREATED:20241128T154850Z
LAST-MODIFIED:20241128T154956Z
UID:13006-1740823200-1740830400@experimental.ch
SUMMARY:Flugberater Rapport 2025
DESCRIPTION:Flugberater Rapport 2025 \nTeilnehmer EAS Flugberater FB Rapport 2025
URL:https://experimental.ch/event/flugberater-rapport-2025/
CATEGORIES:Seminare
END:VEVENT
BEGIN:VEVENT
DTSTART;TZID=Europe/Berlin:20250301T133000
DTEND;TZID=Europe/Berlin:20250301T170000
DTSTAMP:20260420T222828
CREATED:20241128T154011Z
LAST-MODIFIED:20250118T171700Z
UID:13002-1740835800-1740848400@experimental.ch
SUMMARY:Flugerprobungsseminar 2025
DESCRIPTION:Flugerprobungs-Seminar 2025\nDas Flugerprobungsseminar ist obligatorisch vor dem Erstflug und richtet sich daher an die Erbauer welche im 2025 oder in naher Zukunft ihren Erstflug planen. \nAnmeldung und Info hier FEB-Seminar 2025
URL:https://experimental.ch/event/flugerprobungsseminar-2025/
CATEGORIES:Seminare
END:VEVENT
END:VCALENDAR