BEGIN:VCALENDAR
VERSION:2.0
PRODID:-//EAS Experimental Aviation of Switzerland - ECPv6.15.20//NONSGML v1.0//EN
CALSCALE:GREGORIAN
METHOD:PUBLISH
X-ORIGINAL-URL:https://experimental.ch
X-WR-CALDESC:Events for EAS Experimental Aviation of Switzerland
REFRESH-INTERVAL;VALUE=DURATION:PT1H
X-Robots-Tag:noindex
X-PUBLISHED-TTL:PT1H
BEGIN:VTIMEZONE
TZID:Europe/Berlin
BEGIN:DAYLIGHT
TZOFFSETFROM:+0100
TZOFFSETTO:+0200
TZNAME:CEST
DTSTART:20240331T010000
END:DAYLIGHT
BEGIN:STANDARD
TZOFFSETFROM:+0200
TZOFFSETTO:+0100
TZNAME:CET
DTSTART:20241027T010000
END:STANDARD
BEGIN:DAYLIGHT
TZOFFSETFROM:+0100
TZOFFSETTO:+0200
TZNAME:CEST
DTSTART:20250330T010000
END:DAYLIGHT
BEGIN:STANDARD
TZOFFSETFROM:+0200
TZOFFSETTO:+0100
TZNAME:CET
DTSTART:20251026T010000
END:STANDARD
BEGIN:DAYLIGHT
TZOFFSETFROM:+0100
TZOFFSETTO:+0200
TZNAME:CEST
DTSTART:20260329T010000
END:DAYLIGHT
BEGIN:STANDARD
TZOFFSETFROM:+0200
TZOFFSETTO:+0100
TZNAME:CET
DTSTART:20261025T010000
END:STANDARD
END:VTIMEZONE
BEGIN:VEVENT
DTSTART;TZID=Europe/Berlin:20251025T100000
DTEND;TZID=Europe/Berlin:20251025T170000
DTSTAMP:20260420T094256
CREATED:20250808T130711Z
LAST-MODIFIED:20250808T131158Z
UID:13847-1761386400-1761411600@experimental.ch
SUMMARY:EAS Kurs Instandhaltungsbewilligung
DESCRIPTION:EAS Kurs Instandhaltungsbewilligung \nDer Erbauer eines Eigenbauflugzeuges kann auf Empfehlung der EAS eine\nInstandhaltungsermächtigung nach Art. 34 VLL beantragen. \nKursinfo und Anmeldung: EAS IHB Kurs 2025
URL:https://experimental.ch/event/eas-kurs-instandhaltungsbewilligung-2/
CATEGORIES:Seminare
ATTACH;FMTTYPE=image/png:https://experimental.ch/wp-content/uploads/2025/08/EAS-IHB-Kurs.png
END:VEVENT
END:VCALENDAR